Workbook

Sheet EMPLACEMENTS
A1: Emplacements 2026
A2: Rue | B2: N° | C2: HABITANT | D2: Description | E2: Métré | F2: PLACE | G2: Métré | H2: Exposant | I2: N° INSCRIP | J2: Dû | K2: Payé
A3: Rue du Cimetière | B3: Fontaine | E3: 3
B4: N°2 | C4: SCHERRER | E4: 6
D5: Entrée | E5: 1
E6: 4
B7: N°4 | C7: PARKING | E7: 10
D8: parking l 5+6+5 +6 | E8: 18
E11: 18
D13: Incendie | E13: 1
D14: Entrée PK | E14: 3
E15: 8
B16: N°6 | C16: NICOLAS | E16: 5
D17: Entrée | E17: 1
E18: 14
B20: N°8 | C20: ADNET | E20: 5
E21: 1
E22: 10
D23: Entrée | E23: 1
B24: N°10 | C24: SUSS | E24: 10
D25: Entrée | E25: 0
E26: 13
B27: N°12 | C27: FRIEDRICH | E27: 4
D28: Entrée | E28: 1
E30: 15
B31: N°14 | C31: ZERR | E31: 6
D32: Entrée | E32: 1
A33: Emplacements 2026
A34: Rue | B34: N° | C34: HABITANT | D34: Description | E34: Métré | F34: Emplacement | G34: Métré | H34: Exposant | I34: N° INSCRIP | J34: Dû | K34: Payé
B35: N°16 | E35: 3
D36: Incendie | E36: 1
D37: Entrée | E37: 1
B38: RESTAURANT LE TILLEUL | E38: 14
D39: Entrée | E39: 1
E40: 8
C41: CONIN/COUSY | D41: Entrée | E41: 1
E43: 14
B44: N°22 | C44: MARTIN | E44: 12
D47: Entrée | E47: 1
B48: N°24 | C48: GROSHENS | E48: 9
E50: 9
D53: Entrée | E53: 1
E54: 9
B55: N°26 | E55: 6 | L55: 2
B56: N°28 | D56: Incendie | E56: 1
B57: N° 30 | E57: 6
D59: Entrée | E59: 1
E60: 6
D61: Entrée | E61: 1
E63: 12
B64: N°32 | D64: Entrée | E64: 1
A65: Emplacements 2026
A66: Rue | B66: N° | C66: HABITANT | D66: Description | E66: Métré | F66: Emplacement | G66: Métré | H66: Exposant | I66: N° INSCRIP | J66: Dû | K66: Payé
B67: N°34 | C67: LINDER | E67: 12
D68: Entrée | E68: 1
E69: 12
B70: FIN RUE CIMETIERE | E70: 11
E72: 30
A74: MAIRIE
A75: PLACE VILLAGE
B77: N°44 | D77: Entrée | E77: 1
E78: 21
B79: N°42
D80: Entrée | E80: 1
E81: 8
D82: Incendie | E82: 1
B83: N°40 | C83: LEGOFF | E83: 16
D85: Entrée | E85: 1
B87: N°38 | C87: FELS | E87: 10
D88: Entrée | E88: 1
B89: N°36 | C89: SWEDA | E89: 7
D90: Entrée | E90: 1
B91: N°34 | C91: CEWZIG | E91: 10
B92: N°32 | C92: KERHOAS | D92: Entrée | E92: 1
E95: 10
A97: Emplacements 2026
A98: Rue | B98: N° | C98: HABITANT | D98: Description | E98: Métré | F98: Emplacement | G98: Métré | H98: Exposant | I98: N° INSCRIP | J98: Dû | K98: Payé
A100: RUE PRINCIPALE | B100: N°30 | E100: 11
D101: Incendie | E101: 1
B103: N°24 | C103: JOOS/LOGER | E103: 17
D105: Entrée | E105: 1
E106: 1
B107: N°20 | D107: Entrée | E107: 1
E109: 26
B113: N°18 | C113: SIGNORET | D113: Entrée | E113: 1
E114: 8
B116: N°16 | C116: KROMENHACKER | E116: 6
D117: Entrée | E117: 1
E118: 7
D119: Entrée | E119: 1
B120: N°14 | C120: RIEDINGER | E120: 11
E121: 10
D122: Entrée | E122: 1
B123: N° 12 | C123: EVELYNE | E123: 8
D124: Entrée | E124: 1
E125: 26
A129: Emplacements 2026
A130: Rue | B130: N° | C130: HABITANT | D130: Description | E130: Métré | F130: Emplacement | G130: Métré | H130: Exposant | I130: N° INSCRIP | J130: Dû | K130: Payé
A132: RUE PRINCIPALE | B132: N°10 | C132: KLEIN | E132: 12
D133: Entrée | E133: 1
...

Sheet LISTE EXPOSANTS PART
A1: Association PC Sainte Barbe Ottersthal Brocante Ottersthal du Dimanche 11/10/2026 REGISTRE DES INSCRIPTIONS PARTICULIERS
B2: IDENTITE | D2: ADRESSE | G2: CARTE IDENTITE | I2: VOITURE | J2: RC
A3: Emplacement | B3: NOM | C3: Prénom | D3: ADRESSE | E3: CP | F3: VILLE | G3: N° | H3: Date | I3: AVEC | J3: N°
A4: =('LISTE EXPOSANTS INSC '!M5) -> 0 | B4: =('LISTE EXPOSANTS INSC '!B5) -> 0 | C4: =('LISTE EXPOSANTS INSC '!C5) -> 0 | D4: =('LISTE EXPOSANTS INSC '!H5) -> 0 | E4: =('LISTE EXPOSANTS INSC '!I5) -> 0 | F4: =('LISTE EXPOSANTS INSC '!J5) -> 0 | G4: =('LISTE EXPOSANTS INSC '!D5) -> 0 | H4: =('LISTE EXPOSANTS INSC '!E5) -> 0 | I4: =('LISTE EXPOSANTS INSC '!O5) -> 0 | J4: =('LISTE EXPOSANTS INSC '!F5) -> 0
A5: =('LISTE EXPOSANTS INSC '!M6) -> 0 | B5: =('LISTE EXPOSANTS INSC '!B6) -> 0 | C5: =('LISTE EXPOSANTS INSC '!C6) -> 0 | D5: =('LISTE EXPOSANTS INSC '!H6) -> 0 | E5: =('LISTE EXPOSANTS INSC '!I6) -> 0 | F5: =('LISTE EXPOSANTS INSC '!J6) -> 0 | G5: =('LISTE EXPOSANTS INSC '!D6) -> 0 | H5: =('LISTE EXPOSANTS INSC '!E6) -> 0 | I5: =('LISTE EXPOSANTS INSC '!O6) -> 0 | J5: =('LISTE EXPOSANTS INSC '!F6) -> 0
A6: =('LISTE EXPOSANTS INSC '!M7) -> 0 | B6: =('LISTE EXPOSANTS INSC '!B7) -> 0 | C6: =('LISTE EXPOSANTS INSC '!C7) -> 0 | D6: =('LISTE EXPOSANTS INSC '!H7) -> 0 | E6: =('LISTE EXPOSANTS INSC '!I7) -> 0 | F6: =('LISTE EXPOSANTS INSC '!J7) -> 0 | G6: =('LISTE EXPOSANTS INSC '!D7) -> 0 | H6: =('LISTE EXPOSANTS INSC '!E7) -> 0 | I6: =('LISTE EXPOSANTS INSC '!O7) -> 0 | J6: =('LISTE EXPOSANTS INSC '!F7) -> 0
A7: =('LISTE EXPOSANTS INSC '!M8) -> 0 | B7: =('LISTE EXPOSANTS INSC '!B8) -> 0 | C7: =('LISTE EXPOSANTS INSC '!C8) -> 0 | D7: =('LISTE EXPOSANTS INSC '!H8) -> 0 | E7: =('LISTE EXPOSANTS INSC '!I8) -> 0 | F7: =('LISTE EXPOSANTS INSC '!J8) -> 0 | G7: =('LISTE EXPOSANTS INSC '!D8) -> 0 | H7: =('LISTE EXPOSANTS INSC '!E8) -> 0 | I7: =('LISTE EXPOSANTS INSC '!O8) -> 0 | J7: =('LISTE EXPOSANTS INSC '!F8) -> 0
A8: =('LISTE EXPOSANTS INSC '!M9) -> 0 | B8: =('LISTE EXPOSANTS INSC '!B9) -> 0 | C8: =('LISTE EXPOSANTS INSC '!C9) -> 0 | D8: =('LISTE EXPOSANTS INSC '!H9) -> 0 | E8: =('LISTE EXPOSANTS INSC '!I9) -> 0 | F8: =('LISTE EXPOSANTS INSC '!J9) -> 0 | G8: =('LISTE EXPOSANTS INSC '!D9) -> 0 | H8: =('LISTE EXPOSANTS INSC '!E9) -> 0 | I8: =('LISTE EXPOSANTS INSC '!O9) -> 0 | J8: =('LISTE EXPOSANTS INSC '!F9) -> 0
A9: =('LISTE EXPOSANTS INSC '!M10) -> 0 | B9: =('LISTE EXPOSANTS INSC '!B10) -> 0 | C9: =('LISTE EXPOSANTS INSC '!C10) -> 0 | D9: =('LISTE EXPOSANTS INSC '!H10) -> 0 | E9: =('LISTE EXPOSANTS INSC '!I10) -> 0 | F9: =('LISTE EXPOSANTS INSC '!J10) -> 0 | G9: =('LISTE EXPOSANTS INSC '!D10) -> 0 | H9: =('LISTE EXPOSANTS INSC '!E10) -> 0 | I9: =('LISTE EXPOSANTS INSC '!O10) -> 0 | J9: =('LISTE EXPOSANTS INSC '!F10) -> 0
A10: =('LISTE EXPOSANTS INSC '!M11) -> 0 | B10: =('LISTE EXPOSANTS INSC '!B11) -> 0 | C10: =('LISTE EXPOSANTS INSC '!C11) -> 0 | D10: =('LISTE EXPOSANTS INSC '!H11) -> 0 | E10: =('LISTE EXPOSANTS INSC '!I11) -> 0 | F10: =('LISTE EXPOSANTS INSC '!J11) -> 0 | G10: =('LISTE EXPOSANTS INSC '!D11) -> 0 | H10: =('LISTE EXPOSANTS INSC '!E11) -> 0 | I10: =('LISTE EXPOSANTS INSC '!O11) -> 0 | J10: =('LISTE EXPOSANTS INSC '!F11) -> 0
A11: =('LISTE EXPOSANTS INSC '!M12) -> 0 | B11: =('LISTE EXPOSANTS INSC '!B12) -> 0 | C11: =('LISTE EXPOSANTS INSC '!C12) -> 0 | D11: =('LISTE EXPOSANTS INSC '!H12) -> 0 | E11: =('LISTE EXPOSANTS INSC '!I12) -> 0 | F11: =('LISTE EXPOSANTS INSC '!J12) -> 0 | G11: =('LISTE EXPOSANTS INSC '!D12) -> 0 | H11: =('LISTE EXPOSANTS INSC '!E12) -> 0 | I11: =('LISTE EXPOSANTS INSC '!O12) -> 0 | J11: =('LISTE EXPOSANTS INSC '!F12) -> 0
A12: =('LISTE EXPOSANTS INSC '!M13) -> 0 | B12: =('LISTE EXPOSANTS INSC '!B13) -> 0 | C12: =('LISTE EXPOSANTS INSC '!C13) -> 0 | D12: =('LISTE EXPOSANTS INSC '!H13) -> 0 | E12: =('LISTE EXPOSANTS INSC '!I13) -> 0 | F12: =('LISTE EXPOSANTS INSC '!J13) -> 0 | G12: =('LISTE EXPOSANTS INSC '!D13) -> 0 | H12: =('LISTE EXPOSANTS INSC '!E13) -> 0 | I12: =('LISTE EXPOSANTS INSC '!O13) -> 0 | J12: =('LISTE EXPOSANTS INSC '!F13) -> 0
A13: =('LISTE EXPOSANTS INSC '!M14) -> 0 | B13: =('LISTE EXPOSANTS INSC '!B14) -> 0 | C13: =('LISTE EXPOSANTS INSC '!C14) -> 0 | D13: =('LISTE EXPOSANTS INSC '!H14) -> 0 | E13: =('LISTE EXPOSANTS INSC '!I14) -> 0 | F13: =('LISTE EXPOSANTS INSC '!J14) -> 0 | G13: =('LISTE EXPOSANTS INSC '!D14) -> 0 | H13: =('LISTE EXPOSANTS INSC '!E14) -> 0 | I13: =('LISTE EXPOSANTS INSC '!O14) -> 0 | J13: =('LISTE EXPOSANTS INSC '!F14) -> 0
A14: =('LISTE EXPOSANTS INSC '!M15) -> 0 | B14: =('LISTE EXPOSANTS INSC '!B15) -> 0 | C14: =('LISTE EXPOSANTS INSC '!C15) -> 0 | D14: =('LISTE EXPOSANTS INSC '!H15) -> 0 | E14: =('LISTE EXPOSANTS INSC '!I15) -> 0 | F14: =('LISTE EXPOSANTS INSC '!J15) -> 0 | G14: =('LISTE EXPOSANTS INSC '!D15) -> 0 | H14: =('LISTE EXPOSANTS INSC '!E15) -> 0 | I14: =('LISTE EXPOSANTS INSC '!O15) -> 0 | J14: =('LISTE EXPOSANTS INSC '!F15) -> 0
A15: =('LISTE EXPOSANTS INSC '!M16) -> 0 | B15: =('LISTE EXPOSANTS INSC '!B16) -> 0 | C15: =('LISTE EXPOSANTS INSC '!C16) -> 0 | D15: =('LISTE EXPOSANTS INSC '!H16) -> 0 | E15: =('LISTE EXPOSANTS INSC '!I16) -> 0 | F15: =('LISTE EXPOSANTS INSC '!J16) -> 0 | G15: =('LISTE EXPOSANTS INSC '!D16) -> 0 | H15: =('LISTE EXPOSANTS INSC '!E16) -> 0 | I15: =('LISTE EXPOSANTS INSC '!O16) -> 0 | J15: =('LISTE EXPOSANTS INSC '!F16) -> 0
... A80: =('LISTE EXPOSANTS INSC '!M81) -> 0 | B80: =('LISTE EXPOSANTS INSC '!B81) -> 0 | C80: =('LISTE EXPOSANTS INSC '!C81) -> 0 | D80: =('LISTE EXPOSANTS INSC '!H81) -> 0 | E80: =('LISTE EXPOSANTS INSC '!I81) -> 0 | F80: =('LISTE EXPOSANTS INSC '!J81) -> 0 | G80: =('LISTE EXPOSANTS INSC '!D81) -> 0 | H80: =('LISTE EXPOSANTS INSC '!E81) -> 0 | I80: =('LISTE EXPOSANTS INSC '!O81) -> 0 | J80: =('LISTE EXPOSANTS INSC '!F81) -> 0
A81: SIGNATURES PETANQUE CLUB MAIRIE
F98: 83

Sheet LISTE EXPOSANTS PROS
A1: Association PC Sainte Barbe Ottersthal Brocante Ottersthal du Dimanche 11/10/2026 REGISTRE DES INSCRIPTIONS PROFESSIONNELS
B2: IDENTITE | D2: ADRESSE | G2: CARTE IDENTITE | I2: VOITURE | J2: N°RC
A3: Emplacement | B3: NOM | C3: Prénom | D3: ADRESSE | E3: CP | F3: VILLE | G3: N° | H3: Date | I3: AVEC
A15: SIGNATURES PETANQUE CLUB MAIRIE

Sheet LISTE EXPOSANTS INSC 
A1: BROCANTE OTTERSTHAL 11 OCTOBRE 2026 (ORDRE INSCRIPTION)
A2: N° INSCRIPTION | B2: IDENTITE | G2: ADRESSE | K2: ACTIVITE | L2: EMPLACEMENT | Q2: PAIEMENT | X2: TABLEAU PRESENCE
L3: DEMANDE | M3: reel | N3: METRE | O3: VOITURE
B4: NOM | C4: Prénom | D4: N°CI | E4: DATE CI | F4: RC N° | G4: TELEPHONE | H4: ADRESSE | I4: CODE POSTAL | J4: VILLE | O4: AVEC | P4: SANS | Q4: DU | R4: PAYE | S4: TITRE | T4: DATE | U4: Motant CH | V4: Motant € | W4: RESTE DU | X4: résa/payé/présent | Y4: résa/payé/abs | Z4: résa/non payé/abs | AA4: non résa/préset/payé
A5: 1 | Q5: =(N5*2.5) -> 0 | R5: 0 | W5: =(Q5-U5-V5) -> 0
A6: 2 | Q6: =(N6*2.5) -> 0 | R6: 0 | W6: =(Q6-U6-V6) -> 0
A7: 3 | Q7: =(N7*2.5) -> 0 | R7: 0 | W7: =(Q7-U7-V7) -> 0
A8: 4 | Q8: =(N8*2.5) -> 0 | R8: 0 | W8: =(Q8-U8-V8) -> 0
A9: 5 | Q9: =(N9*2.5) -> 0 | R9: 0 | W9: =(Q9-U9-V9) -> 0
A10: 6 | Q10: =(N10*2.5) -> 0 | R10: 0 | W10: =(Q10-U10-V10) -> 0
A11: 7 | Q11: =(N11*2.5) -> 0 | R11: 0 | W11: =(Q11-U11-V11) -> 0
A12: 8 | Q12: =(N12*2.5) -> 0 | R12: 0 | W12: =(Q12-U12-V12) -> 0
A13: 9 | Q13: =(N13*2.5) -> 0 | R13: 0 | W13: =(Q13-U13-V13) -> 0
A14: 10 | Q14: =(N14*2.5) -> 0 | R14: 0 | W14: =(Q14-U14-V14) -> 0
A15: 11 | Q15: =(N15*2.5) -> 0 | R15: 0 | W15: =(Q15-U15-V15) -> 0
A16: 12 | Q16: =(N16*2.5) -> 0 | R16: 0 | W16: =(Q16-U16-V16) -> 0
... A92: 88 | Q92: =(N92*2.5) -> 0 | R92: 0 | W92: =(Q92-U92-V92) -> 0
B93: TOTAL | N93: =SUM(N5:N94) -> 0 | Q93: =SUM(Q5:Q92) -> 0 | R93: =SUM(R5:R92) -> 0 | U93: =SUM(U5:U92) -> 0 | V93: =SUM(V5:V92) -> 0 | W93: =SUM(W5:W92) -> 0
A94: 1 | B94: ADAM | C94: Nadine | F94: 753887819 | G94: 611913564 | H94: 17 Gal de gaulle | I94: 67610 | J94: LA WANTZENAU | K94: Commerçant | M94: 9 | N94: 15 | O94: X | Q94: 52.5 | R94: 52.5 | S94: CH | U94: =(R94) -> 52.5 | W94: =(Q94-U94-V94) -> 0
A95: 2 | B95: VOMSCHEIDT | C95: Andrée | H95: 14 rue ancienne ecole | I95: 67700 | J95: OTTERSTHAL | L95: au 24 en face du 11 | M95: 63 | N95: 5 | O95: X | Q95: =(N95*2.5) -> 12.5 | R95: 12.5 | S95: CH | U95: =(R95) -> 12.5 | W95: =(Q95-U95-V95) -> 0
A96: 3 | B96: BENDELE | C96: Leonard | D96: K604HXED5 | E96: 45400 | F96: 927646562 | G96: 669622745 | H96: 19 rue du fossé | I96: 67400 | J96: STRASBOURG | K96: Elsass-stub | M96: 14 | N96: 7 | O96: X | Q96: 24.5 | R96: 24.5 | S96: CH | U96: =(R96) -> 24.5 | W96: =(Q96-U96-V96) -> 0
A97: 4 | B97: NALEPA | C97: Nathalie | D97: 140267801352 | E97: 10-022014 | G97: 662506517 | H97: 2 rue de la gendarmerie | I97: 67270 | J97: HOCHFELDEN | M97: 65 | N97: 5 | O97: X | Q97: =(N97*2.5) -> 12.5 | R97: 12.5 | S97: CH | U97: =(R97) -> 12.5 | W97: =(Q97-U97-V97) -> 0
A98: 5 | B98: PACHOD | C98: Josphef | D98: 131167400238 | E98: 41596 | G98: 621717164 | H98: 3 rue du schlittweg | I98: 67700 | J98: ottersthal | L98: mme place que l'an passé (27 RP) | M98: 25 | N98: 5 | O98: X | Q98: =(N98*2.5) -> 12.5 | R98: 12.5 | S98: CH | U98: =(R98) -> 12.5 | W98: =(Q98-U98-V98) -> 0
A99: 6 | B99: LANG | C99: Yannick | D99: HTCNTCJN52 | E99: 44309 | G99: 608929881 | H99: 53 rue des chalets | I99: 57230 | J99: eguelshardt | M99: 5 | N99: 30 | O99: X | Q99: =(N99*2.5) -> 75 | R99: 75 | S99: CH | U99: =(R99) -> 75 | W99: =(Q99-U99-V99) -> 0
A100: 7 | B100: IMBS | C100: Béatrice | D100: 180267850306 | E100: 43132 | G100: 623857546 | H100: 1 rue de la ROSERAIE | I100: 67700 | J100: SAVERNE | M100: 12 | N100: 6 | O100: X | Q100: =(N100*2.5) -> 15 | R100: 15 | S100: CH | U100: =(R100) -> 15 | W100: =(Q100-U100-V100) -> 0
A101: 8 | B101: ARZIMAN | C101: Serpil | D101: CXBORDKL4 | E101: 44834 | G101: 751628866 | H101: 67 route romaine | I101: 67700 | J101: SAVERNE | M101: 67 | N101: 3 | O101: X | Q101: =(N101*2.5) -> 7.5 | R101: 7.5 | S101: CH | U101: =(R101) -> 7.5 | W101: =(Q101-U101-V101) -> 0
A102: 9 | B102: SECULA | C102: Dominique | D102: VCCRLNZN9 | E102: 44438 | G102: 624949907 | H102: 18 rue principal | I102: 67700 | J102: OTTERSTHAL | L102: Devant la maison de Signoret | M102: 21 | N102: 8 | Q102: =(N102*2.5) -> 20 | R102: 20 | V102: 20 | W102: =(Q102-U102-V102) -> 0
A103: 10 | B103: LISINAC | C103: Jean | D103: B1XD6LKK4 | E103: 37291 | G103: 606868771 | H103: 20 rue Gal Walter | I103: 67230 | J103: BENFELD | L103: PK rue pietonne | M103: 84 | N103: 10 | O103: X | Q103: =(N103*2.5) -> 25 | R103: 25 | S103: CH | U103: =(R103) -> 25 | W103: =(Q103-U103-V103) -> 0
A104: 11 | B104: MANUKYAN | C104: Hasmik | D104: 6703084616 | E104: 45113 | G104: 767839183 | H104: 2 ancienne sinagogue | I104: 67700 | J104: SAVERNE | M104: 57 | N104: 8 | O104: X | Q104: =(N104*2.5) -> 20 | R104: 20 | S104: CH | U104: =(R104) -> 20 | W104: =(Q104-U104-V104) -> 0
A105: 12 | B105: HUSSON | C105: Monique | D105: 170367801501 | E105: 42801 | F105: 418648176 | G105: 607477257 | I105: 67550 | J105: eckwersheim | L105: mme place que l'an passe(°16 RP) | M105: 18 | N105: 15 | O105: XX | Q105: 52.5 | R105: 52.5 | S105: CH | U105: =(R105) -> 52.5 | W105: =(Q105-U105-V105) -> 0
A106: 13 | B106: MULLER | C106: Agnès | D106: 191067855222 | E106: 43754 | G106: 681871601 | H106: 27 rue principale | I106: 67700 | J106: OTTERSTHAL | L106: en face du 27 r principale | M106: 27 | N106: 6 | O106: X | Q106: =(N106*2.5) -> 15 | R106: 15 | S106: CH | U106: =(R106) -> 15 | W106: =(Q106-U106-V106) -> 0
A107: 14 | B107: LAUGEL | C107: Claudia | D107: 151167400391 | E107: 42328 | G107: 670146835 | H107: 33 rue principale | I107: 67270 | J107: Saessolsheim | L107: a côté de bernard esteve 40 RP | M107: 36 | N107: 4 | O107: X | Q107: =(N107*2.5) -> 10 | R107: 10 | S107: CH | U107: =(R107) -> 10 | W107: =(Q107-U107-V107) -> 0
A108: 15 | B108: GOETZ | C108: Noel | D108: 8clp4p5r6 | E108: 44880 | G108: 683012820 | H108: 19 Mont Saint barbe | I108: 67700 | J108: OTTERSTHAL | M108: 6 | N108: 10 | O108: X | Q108: =(N108*2.5) -> 25 | R108: 25 | S108: CH | U108: =(R108) -> 25 | W108: =(Q108-U108-V108) -> 0
A109: 16 | B109: VERRY-SCHANTZ | C109: M-Chantal | D109: 180667863593 | E109: 43277 | G109: 636764100 | H109: 13 Gal de Gaulle | I109: 67270 | J109: HOCHFELDEN | K109: PRES TOILETTES | L109: Meme place que l'an passé | M109: 53 | N109: 5 | O109: X | Q109: =(N109*2.5) -> 12.5 | R109: 12.5 | S109: CH | U109: =(R109) -> 12.5 | W109: =(Q109-U109-V109) -> 0
A110: 17 | B110: ERTZ | C110: Sabine | D110: 1906678522577 | E110: 43627 | G110: 681784064 | H110: 34 rue de la garenne | I110: 67700 | J110: Saverne | K110: PK HAUT FOND | L110: Meme place que l'an passé | M110: 42 | N110: 11 | O110: X | Q110: =(N110*2.5) -> 27.5 | R110: 27.5 | S110: CH | U110: =(R110) -> 27.5 | W110: =(Q110-U110-V110) -> 0
A111: 18 | B111: STEINBERGER | C111: Michel | D111: 130467801881 | E111: 41375 | F111: 523159705 | G111: 618517974 | H111: 22 rue corps de garde | I111: 67100 | J111: STRASBOURG | K111: AMBULANT | L111: Place habit avec courant N°14 RP | M111: 17 | N111: 15 | O111: XX | Q111: 52.5 | R111: 52.5 | S111: CH | U111: =(R111) -> 52.5 | W111: =(Q111-U111-V111) -> 0
A112: 19 | B112: HICKENBICK | C112: J-Marie | D112: 16085790291 | E112: 42594 | G112: 695038112 | H112: 22 rue le corbusier | I112: 57400 | J112: SARREBOURG | L112: MEME EMPL PK ex N°71 | M112: 82 | N112: 12 | O112: X | Q112: 30 | R112: 30 | S112: CH | U112: =(R112) -> 30 | W112: =(Q112-U112-V112) -> 0
A113: 20 | B113: DIDIERJEAN | C113: Romain | D113: 1808680218 | E113: 43323 | G113: 674006600 | H113: 27 rue de phalsbourg | I113: 67700 | J113: St Jean Saverne | M113: 58 | N113: 5 | O113: X | Q113: =(N113*2.5) -> 12.5 | R113: 12.5 | S113: CH | U113: =(R113) -> 12.5 | W113: =(Q113-U113-V113) -> 0
A114: 21 | B114: VUILLAUME | C114: Sophie | D114: 58xnj25m1 | E114: 45069 | G114: 674519847 | H114: 12 R LEINERMATT | I114: 67700 | J114: OTTERSTHAL | L114: rue principale a l'arrêt de bus | M114: 33 | N114: 3 | O114: X | Q114: =(N114*2.5) -> 7.5 | R114: 7.5 | V114: 7.5 | W114: =(Q114-U114-V114) -> 0
A115: 22 | B115: LINDER | C115: Tharcisse | D115: 14076700090 | E115: 41824 | G115: 786209786 | H115: 34 rue du cimetiere | I115: 67700 | J115: OTTERSTHAL | L115: a placer devant domicile 34 RC | M115: 69 | N115: 10 | Q115: =(N115*2.5) -> 25 | R115: 25 | S115: CH | U115: =(R115) -> 25 | W115: =(Q115-U115-V115) -> 0
A116: 23 | B116: BOTTKE | C116: Nicolas | H116: 4 rue rene descartes | I116: 57400 | J116: SARREBOURG | L116: a cote du presbytere | M116: 37 | N116: 12 | O116: X | Q116: 30 | R116: 0 | S116: encaisser | U116: =(R116) -> 0 | V116: 30 | W116: =(Q116-U116-V116) -> 0
A117: 24 | B117: GODICHARD | C117: Francois | D117: AP740VCP2 | E117: 45294 | H117: 32 rue principale | I117: 67440 | J117: KLEINGOEFT | K117: ANNULE 8 ml | L117: Emplacement habituel | N117: 0 | O117: X | Q117: 0 | R117: 20 | S117: CH | U117: =(R117) -> 20 | W117: =(Q117-U117-V117) -> -20
A118: 25 | B118: BURG | C118: Stephanie | D118: TKT4BEEG1 | E118: 44889 | G118: 636511094 | H118: 5 rue de Saverne | I118: 67700 | J118: OTTERSTHAL | L118: a placer au plus prés de la rue de Saverne | M118: 36 | N118: 8 | O118: X | Q118: =(N118*2.5) -> 20 | R118: 20 | S118: CH | U118: =(R118) -> 20 | W118: =(Q118-U118-V118) -> 0
A119: 26 | B119: NEI | C119: Therese | D119: 991067400562 | H119: 31 rue principale | I119: 67700 | J119: OTTERSTHAL | L119: En face du 31 RP | M119: 28 | N119: 8 | Q119: 20 | R119: 20 | V119: 20 | W119: =(Q119-U119-V119) -> 0
A120: 27 | B120: NEI | C120: Sylvie | G120: 643606366 | H120: 29 rue principale | I120: 67700 | J120: OTTERSTHAL | L120: En face du 31 RP | M120: 29 | N120: 5 | Q120: =(N120*2.5) -> 12.5 | R120: 12.5 | V120: 12.5 | W120: =(Q120-U120-V120) -> 0
A121: 28 | B121: RIETH | C121: Michel | E121: 44413 | G121: 687129536 | H121: 65 rue hanau lichtenberg 67330 | I121: 67000 | J121: ZUTZENDORF | M121: 22 | N121: 15 | O121: X | Q121: =(N121*2.5) -> 37.5 | R121: 37.5 | S121: CH | U121: =(R121) -> 37.5 | W121: =(Q121-U121-V121) -> 0
A122: 29 | B122: ADNET | C122: Colette | D122: RXNF48P90 | E122: 45622 | G122: 677854459 | H122: 8 rue du cimetière | I122: 67700 | J122: OTTERSTHAL | L122: devant la maison 8 RC | M122: 47 | N122: 5 | Q122: =(N122*2.5) -> 12.5 | R122: 12.5 | S122: CH | U122: =(R122) -> 12.5 | W122: =(Q122-U122-V122) -> 0
A123: 30 | B123: WEINSANDO | C123: Danielle | D123: 140267400116 | E123: 41674 | G123: 662169490 | H123: 44 rue principale | I123: 67700 | J123: OTTERSTHAL | L123: Devant la maison 44RP | M123: 38 | N123: 17 | Q123: =(N123*2.5) -> 42.5 | R123: 42.5 | V123: 42.5 | W123: =(Q123-U123-V123) -> 0
A124: 31 | B124: LE CARNEC | C124: Christine | D124: 10076700296 | E124: 40374 | G124: 603357616 | H124: 1 rue de Monswiller | I124: 67700 | J124: SAVERNE | M124: 64 | N124: 8 | O124: X | Q124: =(N124*2.5) -> 20 | R124: 20 | S124: CH | U124: =(R124) -> 20 | W124: =(Q124-U124-V124) -> 0
A125: 32 | B125: SCHNEPP | C125: Jacqueline | D125: 1402674003 | E125: 41681 | G125: 6763553809 | H125: 9 rue bannholtz | I125: 67340 | J125: INGWILLER | M125: 86 | N125: 6 | O125: X | Q125: =(N125*2.5) -> 15 | R125: 15 | S125: CH | U125: =(R125) -> 15 | W125: =(Q125-U125-V125) -> 0
A126: 33 | B126: GROSHEN | C126: Céline | D126: MCEFB2X14 | E126: 41841 | G126: 03 88 91 11 06 | H126: 24 rue du cimtiére | I126: 67700 | J126: OTTERSTHAL | L126: devant domicile 24 RC | M126: 62 | N126: 4 | Q126: 10 | R126: 10 | V126: 10 | W126: =(Q126-U126-V126) -> 0
A127: 34 | B127: SCHMITT | C127: Joseph | D127: 14CA35877 | E127: 45412 | G127: 676947198 | H127: 28 rue du roi de rome | I127: 67160 | J127: WISSEMBOURG | K127: PK CENTRE | L127: vers le début ou le centre | M127: 43 | N127: 9 | Q127: 22.5 | R127: 25 | S127: CH | U127: =(R127) -> 25 | V127: -2.5 | W127: =(Q127-U127-V127) -> 0
A128: 35 | B128: PAVOZ | C128: A-Cécile | D128: T7YHZDGF8 | E128: 44431 | G128: 771103535 | H128: 3 rue d'Erckartswiller | I128: 67700 | J128: OTTERSTHAL | L128: A mettre croisement rue principale ancienne maison de lorentz 2 RP | M128: 1 | N128: 4 | O128: X | Q128: =(N128*2.5) -> 10 | R128: 10 | V128: 10 | W128: =(Q128-U128-V128) -> 0
A129: 36 | B129: AVRIL | C129: Dorothee | D129: 190667856505 | E129: 43642 | G129: 634173354 | H129: 23 rue de la poudriere | I129: 67340 | J129: INGWILLER | M129: 24 | N129: 5 | O129: X | Q129: =(N129*2.5) -> 12.5 | R129: 12.5 | S129: CH | U129: =(R129) -> 12.5 | W129: =(Q129-U129-V129) -> 0
A130: 37 | B130: KROMMENACKER | C130: Béatrice | D130: 1609677400061 | E130: 42618 | G130: 608887864 | H130: 16 rue principale | I130: 67700 | J130: OTTERSTHAL | L130: devant son garage 16 RP | M130: 19 | N130: 2 | Q130: =(N130*2.5) -> 5 | R130: 5 | S130: CH | U130: =(R130) -> 5 | W130: =(Q130-U130-V130) -> 0
A131: 38 | B131: SCHWEDA | C131: Frederique | D131: 140167400139 | E131: 41652 | G131: 603632718 | H131: 36 rue principale | I131: 67700 | J131: OTTERSTHAL | L131: devant chez moi 36 rue principale | M131: 32 | N131: 5 | Q131: =(N131*2.5) -> 12.5 | R131: 12.5 | S131: CH | U131: =(R131) -> 12.5 | W131: =(Q131-U131-V131) -> 0
A132: 39 | B132: KLEIN | C132: Patrice | D132: 201067850780 | E132: 44109 | G132: 388710069 | H132: 10 rue principale | I132: 67700 | J132: OTTERSTHAL | L132: devant l'entrée de notre garage 10 RP | M132: 11 | N132: 4 | Q132: =(N132*2.5) -> 10 | R132: 10 | S132: CH | U132: =(R132) -> 10 | W132: =(Q132-U132-V132) -> 0
A133: 40 | B133: JERVIS | C133: Sarah | D133: 560823089 | E133: 43649 | G133: 768953743 | H133: 1 rue du diable bleu | I133: 67700 | J133: SAVERNE | M133: 49 | N133: 4 | Q133: =(N133*2.5) -> 10 | R133: 10 | V133: 10 | W133: =(Q133-U133-V133) -> 0
A134: 41 | B134: MATIAS | C134: REMY | D134: CKCO8T5J5 | E134: 44497 | H134: 29 RUE PRINCIPALE | L134: Comme d'habitude PK ZP | M134: 81 | N134: 8 | Q134: =(N134*2.5) -> 20 | R134: 20 | V134: 20 | W134: =(Q134-U134-V134) -> 0
A135: 42 | B135: HOFF | C135: Isabelle | D135: 90967400636 | E135: 43737 | G135: 675623986 | H135: 13 rue d'eckartswiller | I135: 67700 | J135: OTTERSTHAL | L135: début de la rue principale N°4 RP | M135: 2 | N135: 3 | O135: X | Q135: 7.5 | R135: 7.5 | S135: CH | U135: =(R135) -> 7.5 | W135: =(Q135-U135-V135) -> 0
A136: 43 | B136: ANCEL | C136: Lydia | K136: Bibliotheque | L136: MEME EMPLACEMENT | M136: 20 | N136: 4 | O136: X | Q136: 0 | R136: 0 | U136: =(R136) -> 0 | W136: =(Q136-U136-V136) -> 0
A137: 44 | B137: TRIPP | C137: Brunno | D137: 21EF15212 | E137: 44559 | H137: 1 rue de l'ancienne ecole 67700 | J137: OTTERSTHAL | M137: 39 | N137: 35 | O137: X | Q137: =(N137*2.5) -> 87.5 | R137: 87.5 | S137: CH | U137: =(R137) -> 87.5 | W137: =(Q137-U137-V137) -> 0
A138: 45 | B138: CEWGIZ | C138: Huswi | D138: 150267400551 | G138: 652670584 | H138: 34 rue principale | I138: 67700 | J138: OTTERSTHAL | L138: devant ma maison 34 RP | M138: 31 | N138: 2 | Q138: =(N138*2.5) -> 5 | R138: 5 | V138: 5 | W138: =(Q138-U138-V138) -> 0
A139: 46 | B139: KEU | C139: Sophie | D139: 111067803582 | E139: 40840 | F139: 432966562 | G139: 781777012 | H139: 135 Av Geral De Gaulle | I139: 67201 | J139: ECKBOLSHEIM | K139: Plats Asiatiques | L139: meme emplacement coté Jenny | M139: 75 | N139: 10 | O139: XX | Q139: 35 | R139: 35 | V139: 35 | W139: =(Q139-U139-V139) -> 0
A140: 47 | B140: BERNARD | C140: Alain | E140: RESTAURANT | F140: 879035087 | H140: 18 rue du cimetiere | I140: 67700 | J140: OTTERSTHAL | L140: meme emplacement | M140: 55 | N140: 18 | Q140: 63 | R140: 63 | V140: 63 | W140: =(Q140-U140-V140) -> 0
A141: 48 | B141: BRETZELS | C141: Jenny | F141: 180767852875 | G141: 695673786 | H141: 3A R DE LA ZORN | I141: 67700 | J141: MONSWILLER | K141: BRETZELS | L141: VEH A L ARRIERE STAND + COURANT centre | M141: 76 | N141: 6 | O141: X | Q141: 14 | R141: 14 | V141: 14 | W141: =(Q141-U141-V141) -> 0
A142: 49 | B142: WOLFF | C142: Emma | E142: 44420 | F142: 49VF6BW60 | G142: 780529540 | H142: 2 R DE DOSSENHEIM | I142: 67330 | J142: ERNOLSHEIM | M142: 41 | N142: 7 | O142: X | Q142: =(N142*2.5) -> 17.5 | R142: 17.5 | S142: CH | U142: =(R142) -> 17.5 | W142: =(Q142-U142-V142) -> 0
A143: 50 | B143: SCHORR | C143: Armand | D143: 2009678511616 | E143: 44078 | F143: 977783851 | H143: 6 rue de la republique | I143: 67700 | J143: Monswiller | K143: En face du 20 | L143: Comme l'an passe ??? | M143: 23 | N143: 6 | O143: X | Q143: 21 | R143: 21 | S143: CH | U143: =(R143) -> 21 | W143: =(Q143-U143-V143) -> 0
A144: 51 | B144: GEMMING | C144: Loraine | G144: 744437024 | M144: 30 | N144: 5 | O144: X | Q144: =(N144*2.5) -> 12.5 | R144: 0 | S144: encaisser | U144: =(R144) -> 0 | V144: 12.5 | W144: =(Q144-U144-V144) -> 0
A145: 52 | B145: TIVIN | C145: Martine | G145: 666779015 | H145: 7 chemin Friedt | I145: 67100 | J145: STRASBOURG | K145: ANNULE | L145: 12 m annulés | N145: 0 | O145: X | Q145: 0 | R145: 0 | S145: encaisser | U145: =(R145) -> 0 | W145: =(Q145-U145-V145) -> 0
A146: 53 | B146: LEDRICH | C146: Pascal | D146: NHA4LVL25 | E146: 44755 | G146: 608992256 | H146: 1 impasse du château | I146: 67120 | J146: ERGERSHEIM | M146: 59 | N146: 5 | O146: X | Q146: =(N146*2.5) -> 12.5 | R146: 0 | S146: encaisser | U146: =(R146) -> 0 | V146: 12.5 | W146: =(Q146-U146-V146) -> 0
A147: 54 | B147: SECULA | C147: Xavier | D147: EX582ZXLPG | E147: 45236 | G147: 772115698 | H147: 2 rue de la corse | I147: 67100 | J147: STRASBOURG | M147: 60 | N147: 15 | O147: X | Q147: =(N147*2.5) -> 37.5 | R147: 25 | S147: CH | U147: =(R147) -> 25 | V147: 12.5 | W147: =(Q147-U147-V147) -> 0
A148: 55 | B148: BENOIT | C148: J-François | G148: 670978272 | H148: 56 rue des asperges | I148: 67870 | J148: GRIEHEIM | M148: 10 | N148: 10 | O148: X | Q148: =(N148*2.5) -> 25 | R148: 0 | S148: encaisser | U148: =(R148) -> 0 | V148: 25 | W148: =(Q148-U148-V148) -> 0
A149: 56 | B149: KOENIG | C149: Nicolas | F149: 984588699 | G149: 06 67 17 46 12 | H149: 32 rue ancienne gare | I149: 67110 | J149: Niedrebronn | K149: ORIGINAL GARDEN | L149: voiture + remorque derriere le stand | M149: 85 | N149: 10 | O149: XX | Q149: 35 | R149: 0 | S149: encaisser | U149: 35 | V149: 0 | W149: =(Q149-U149-V149) -> 0
A150: 57 | B150: SPAC | C150: Oleg | G150: 766858023 | H150: 4 chemin des romains | I150: 67400 | J150: ILLKIRCH GR | M150: 70 | N150: 10 | O150: X | Q150: =(N150*2.5) -> 25 | R150: 0 | S150: encaisser | U150: =(R150) -> 0 | V150: 25 | W150: =(Q150-U150-V150) -> 0
A151: 58 | B151: DAMPHOFFER | C151: Michel | G151: 628357157 | H151: rue des gardes champetr | I151: 67 | J151: STRASBOURG | M151: 83 | N151: 10 | O151: X | Q151: =(N151*2.5) -> 25 | R151: 0 | S151: encaisser | U151: =(R151) -> 0 | V151: 25 | W151: =(Q151-U151-V151) -> 0
A152: 59 | B152: GOULET | C152: Odile | I152: 67700 | J152: SAVERNE | M152: 26 | N152: 5 | O152: X | Q152: =(N152*2.5) -> 12.5 | R152: 0 | S152: encaisser | U152: =(R152) -> 0 | V152: 12.5 | W152: =(Q152-U152-V152) -> 0
A153: 60 | B153: GROSHENNY | C153: Madeline | G153: 743504675 | H153: 9 rue du stade | I153: 67340 | J153: SPARSBACH | M153: 46 | N153: 5 | O153: X | Q153: =(N153*2.5) -> 12.5 | R153: 0 | S153: encaisser | U153: =(R153) -> 0 | V153: 12.5 | W153: =(Q153-U153-V153) -> 0
A154: 61 | B154: WAGNER | C154: David | G154: 633510385 | H154: 73 rue Joffre | I154: 54480 | M154: 71 | N154: 8 | O154: X | Q154: =(N154*2.5) -> 20 | R154: 0 | S154: encaisser | U154: =(R154) -> 0 | V154: 20 | W154: =(Q154-U154-V154) -> 0
A155: 62 | B155: ARRAY | C155: Miriam | G155: 678755917 | H155: 8 route de strasbourg | I155: 67960 | M155: 44 | N155: 9 | O155: X | Q155: 22.5 | R155: 0 | S155: encaisser | U155: =(R155) -> 0 | V155: 22.5 | W155: =(Q155-U155-V155) -> 0
A156: 63 | B156: TOUTIN | C156: Vincent | F156: Commercant | H156: route de kerviec | I156: 56850 | J156: GAUDAN | M156: 16 | N156: 10 | O156: X | Q156: 35 | R156: 0 | S156: encaisser | U156: =(R156) -> 0 | V156: 35 | W156: =(Q156-U156-V156) -> 0
A157: 64 | B157: ERGUN | C157: Ismail | G157: 651617784 | H157: 3 rue de léglise | I157: 67110 | J157: Gundersfoffen | L157: entre le 2 et le 4 rue principa | M157: 3 | N157: 12 | O157: X | Q157: =(N157*2.5) -> 30 | R157: 0 | S157: encaisser | U157: =(R157) -> 0 | V157: 30 | W157: =(Q157-U157-V157) -> 0
A158: 65 | B158: KONMUS | C158: Lokman | G158: :::::::::::::::: | H158: 3 rue de léglise | I158: 67110 | J158: Gundershoffen | L158: IDEM | M158: 4 | N158: 10 | O158: X | Q158: =(N158*2.5) -> 25 | R158: 0 | S158: encaisser | U158: =(R158) -> 0 | V158: 25 | W158: =(Q158-U158-V158) -> 0
A159: 66 | B159: WEISKOPF | C159: Marie | G159: mado67340@orangefr | L159: voiture derrierre le stand prés des toilettes vers resto | M159: 52 | N159: 5 | O159: X | Q159: =(N159*2.5) -> 12.5 | R159: 0 | S159: encaisser | U159: =(R159) -> 0 | V159: 12.5 | W159: =(Q159-U159-V159) -> 0
A160: 67 | B160: DIDON | C160: Charlène | M160: 13 | N160: 5 | O160: X | Q160: =(N160*2.5) -> 12.5 | R160: 0 | S160: encaisser | U160: =(R160) -> 0 | V160: 12.5 | W160: =(Q160-U160-V160) -> 0
A161: 68 | B161: MARTIN | C161: Suzanne | D161: LFTZN6E23 | E161: 45471 | G161: 673536793 | H161: 10 rue Principale | I161: 57635 | J161: FERISHEIM | L161: Voiture et auvent | M161: 79 | N161: 10 | O161: XX | Q161: =(N161*2.5) -> 25 | R161: 25 | S161: CH | U161: =(R161) -> 25 | W161: =(Q161-U161-V161) -> 0
A162: 69 | B162: STAAB | C162: Mario | G162: 620952062 | M162: 50 | N162: 5 | O162: X | Q162: =(N162*2.5) -> 12.5 | R162: 0 | S162: encaisser | U162: =(R162) -> 0 | V162: 12.5 | W162: =(Q162-U162-V162) -> 0
A163: 70 | B163: PCO | C163: STE BARBE | H163: 12 rue des jardins | I163: 67700 | J163: OTTERSTHAL | M163: 77 | N163: 10 | O163: XX | Q163: 0 | R163: 0 | U163: =(R163) -> 0 | W163: =(Q163-U163-V163) -> 0
A164: 71 | B164: PC | C164: ST JEAN | J164: ST JEAN SAVERNE | M164: 40 | N164: 10 | O164: XX | Q164: 0 | R164: 0 | U164: =(R164) -> 0 | W164: =(Q164-U164-V164) -> 0
A165: 72 | B165: JAEGER | C165: Chantal | D165: L474RRG09 | E165: 45289 | G165: 07 88 73 78 30 | H165: 8 rue de la Fontaine | I165: 57565 | J165: BROUDERDORFF | M165: 80 | N165: 10 | O165: X | Q165: =(N165*2.5) -> 25 | R165: 25 | S165: CH | U165: =(R165) -> 25 | W165: =(Q165-U165-V165) -> 0
A166: 73 | B166: EZPEZEL | C166: Jacques | D166: 120667400161 | E166: 41067 | G166: 06 82 67 04 46 | H166: 1 rue du Mont Ste Barbe | I166: 67700 | J166: OTTERSTHAL | L166: rue principale | M166: 8 | N166: 4 | O166: X | Q166: =(N166*2.5) -> 10 | R166: 10 | S166: CH | U166: =(R166) -> 10 | W166: =(Q166-U166-V166) -> 0
A167: 74 | B167: ESTEVE | C167: Bernard | J167: OTTERSTHAL | L167: rue principale | M167: 35 | N167: 10 | O167: X | Q167: =(N167*2.5) -> 25 | R167: 25 | S167: CH | U167: 25 | W167: =(Q167-U167-V167) -> 0
A168: 75 | B168: ERHART-JUNG | C168: Marie | M168: 54 | N168: 6 | O168: X | Q168: =(N168*2.5) -> 15 | R168: 0 | S168: encaisser | U168: =(R168) -> 0 | V168: 15 | W168: =(Q168-U168-V168) -> 0
A169: 76 | B169: REDINGER | C169: Rose-Marie | H169: 27 rue Belle-vue | J169: PHALSBOURG | L169: Véhicule | M169: 15 | N169: 6 | O169: X | Q169: =(N169*2.5) -> 15 | R169: 15 | S169: CH | U169: =(R169) -> 15 | W169: =(Q169-U169-V169) -> 0
A170: 77 | B170: HUBER | C170: Charles | E170: 0 | G170: 06 58 34 99 97 | H170: 57 Av André Malraux | I170: 67400 | J170: ILLKIRCH | M170: 48 | N170: 10 | O170: X | Q170: =(N170*2.5) -> 25 | R170: 0 | S170: encaisser | U170: =(R170) -> 0 | V170: 25 | W170: =(Q170-U170-V170) -> 0
A171: 78 | B171: HAMBERGER | C171: Francine | G171: 06 85 21 87 41 | H171: 5 B Rte de Sarreguemines | I171: 57370 | J171: VILLBERG | L171: Berlingo derriere stand | M171: 78 | N171: 5 | O171: X | Q171: =(N171*2.5) -> 12.5 | R171: 0 | S171: encaisser | U171: =(R171) -> 0 | V171: 12.5 | W171: =(Q171-U171-V171) -> 0
A172: 79 | B172: BROMMER | C172: Pierrette | L172: vers 8 RP | M172: 7 | N172: 15 | O172: X | Q172: =(N172*2.5) -> 37.5 | R172: 0 | S172: encaisser | U172: =(R172) -> 0 | V172: 37.5 | W172: =(Q172-U172-V172) -> 0
A173: 80 | B173: JUNCKER | C173: Laurence | G173: 06 11 66 55 22 | L173: Voiture | M173: 56 | N173: 5 | O173: X | Q173: =(N173*2.5) -> 12.5 | R173: 0 | S173: encaisser | U173: =(R173) -> 0 | V173: 12.5 | W173: =(Q173-U173-V173) -> 0
A174: 81 | B174: MARTIN | C174: Claude | G174: 06 51 66 57 18 | H174: 27 Av Jean Jaurès | I174: 67100 | J174: STRASBOURG | L174: Voiture | M174: 61 | N174: 5 | O174: X | Q174: =(N174*2.5) -> 12.5 | R174: 0 | S174: encaisser | U174: =(R174) -> 0 | V174: 12.5 | W174: =(Q174-U174-V174) -> 0
A175: 82 | B175: PETHO | C175: Hélène | G175: 06 70 45 85 70 | H175: 34 rue St Nicolas | I175: 67700 | J175: SAVERNE | L175: Voiture | M175: 51 | N175: 7 | O175: X | Q175: =(N175*2.5) -> 17.5 | R175: 0 | S175: encaisser | U175: =(R175) -> 0 | V175: 17.5 | W175: =(Q175-U175-V175) -> 0
...
