Workbook

Sheet EMPLACEMENTS
A1: Emplacements 2026
A2: Rue | B2: N° | C2: HABITANT | D2: Description | E2: Métré | F2: PLACE | G2: Métré | H2: Exposant | I2: N° INSCRIP | J2: Dû | K2: Payé
A3: Rue du Cimetière | B3: Fontaine | E3: 3
B4: N°2 | C4: SCHERRER | E4: 6
D5: Entrée | E5: 1
E6: 4
B7: N°4 | C7: PARKING | E7: 10
D8: parking l 5+6+5 +6 | E8: 18
E11: 18
D13: Incendie | E13: 1
D14: Entrée PK | E14: 3
E15: 8
B16: N°6 | C16: NICOLAS | E16: 5
D17: Entrée | E17: 1
E18: 14
B20: N°8 | C20: ADNET | E20: 5
E21: 1
E22: 10
D23: Entrée | E23: 1
B24: N°10 | C24: SUSS | E24: 10
D25: Entrée | E25: 0
E26: 13
B27: N°12 | C27: FRIEDRICH | E27: 4
D28: Entrée | E28: 1
E30: 15
B31: N°14 | C31: ZERR | E31: 6
D32: Entrée | E32: 1
A33: Emplacements 2026
A34: Rue | B34: N° | C34: HABITANT | D34: Description | E34: Métré | F34: Emplacement | G34: Métré | H34: Exposant | I34: N° INSCRIP | J34: Dû | K34: Payé
B35: N°16 | E35: 3
D36: Incendie | E36: 1
D37: Entrée | E37: 1
B38: RESTAURANT LE TILLEUL | E38: 14
D39: Entrée | E39: 1
E40: 8
C41: CONIN/COUSY | D41: Entrée | E41: 1
E43: 14
B44: N°22 | C44: MARTIN | E44: 12
D47: Entrée | E47: 1
B48: N°24 | C48: GROSHENS | E48: 9
...

Sheet LISTE EXPOSANTS PART
A1: Association PC Sainte Barbe Ottersthal Brocante Ottersthal du Dimanche 11/10/2026 REGISTRE DES INSCRIPTIONS PARTICULIERS
B2: IDENTITE | D2: ADRESSE | G2: CARTE IDENTITE | I2: VOITURE | J2: RC
A3: Emplacement | B3: NOM | C3: Prénom | D3: ADRESSE | E3: CP | F3: VILLE | G3: N° | H3: Date | I3: AVEC | J3: N°
A4: =('LISTE EXPOSANTS INSC '!M5) -> 0 | B4: =('LISTE EXPOSANTS INSC '!B5) -> 0 | C4: =('LISTE EXPOSANTS INSC '!C5) -> 0 | D4: =('LISTE EXPOSANTS INSC '!H5) -> 0 | E4: =('LISTE EXPOSANTS INSC '!I5) -> 0 | F4: =('LISTE EXPOSANTS INSC '!J5) -> 0 | G4: =('LISTE EXPOSANTS INSC '!D5) -> 0 | H4: =('LISTE EXPOSANTS INSC '!E5) -> 0 | I4: =('LISTE EXPOSANTS INSC '!O5) -> 0 | J4: =('LISTE EXPOSANTS INSC '!F5) -> 0
A5: =('LISTE EXPOSANTS INSC '!M6) -> 0 | B5: =('LISTE EXPOSANTS INSC '!B6) -> 0 | C5: =('LISTE EXPOSANTS INSC '!C6) -> 0 | D5: =('LISTE EXPOSANTS INSC '!H6) -> 0 | E5: =('LISTE EXPOSANTS INSC '!I6) -> 0 | F5: =('LISTE EXPOSANTS INSC '!J6) -> 0 | G5: =('LISTE EXPOSANTS INSC '!D6) -> 0 | H5: =('LISTE EXPOSANTS INSC '!E6) -> 0 | I5: =('LISTE EXPOSANTS INSC '!O6) -> 0 | J5: =('LISTE EXPOSANTS INSC '!F6) -> 0
A6: =('LISTE EXPOSANTS INSC '!M7) -> 0 | B6: =('LISTE EXPOSANTS INSC '!B7) -> 0 | C6: =('LISTE EXPOSANTS INSC '!C7) -> 0 | D6: =('LISTE EXPOSANTS INSC '!H7) -> 0 | E6: =('LISTE EXPOSANTS INSC '!I7) -> 0 | F6: =('LISTE EXPOSANTS INSC '!J7) -> 0 | G6: =('LISTE EXPOSANTS INSC '!D7) -> 0 | H6: =('LISTE EXPOSANTS INSC '!E7) -> 0 | I6: =('LISTE EXPOSANTS INSC '!O7) -> 0 | J6: =('LISTE EXPOSANTS INSC '!F7) -> 0
A7: =('LISTE EXPOSANTS INSC '!M8) -> 0 | B7: =('LISTE EXPOSANTS INSC '!B8) -> 0 | C7: =('LISTE EXPOSANTS INSC '!C8) -> 0 | D7: =('LISTE EXPOSANTS INSC '!H8) -> 0 | E7: =('LISTE EXPOSANTS INSC '!I8) -> 0 | F7: =('LISTE EXPOSANTS INSC '!J8) -> 0 | G7: =('LISTE EXPOSANTS INSC '!D8) -> 0 | H7: =('LISTE EXPOSANTS INSC '!E8) -> 0 | I7: =('LISTE EXPOSANTS INSC '!O8) -> 0 | J7: =('LISTE EXPOSANTS INSC '!F8) -> 0
A8: =('LISTE EXPOSANTS INSC '!M9) -> 0 | B8: =('LISTE EXPOSANTS INSC '!B9) -> 0 | C8: =('LISTE EXPOSANTS INSC '!C9) -> 0 | D8: =('LISTE EXPOSANTS INSC '!H9) -> 0 | E8: =('LISTE EXPOSANTS INSC '!I9) -> 0 | F8: =('LISTE EXPOSANTS INSC '!J9) -> 0 | G8: =('LISTE EXPOSANTS INSC '!D9) -> 0 | H8: =('LISTE EXPOSANTS INSC '!E9) -> 0 | I8: =('LISTE EXPOSANTS INSC '!O9) -> 0 | J8: =('LISTE EXPOSANTS INSC '!F9) -> 0
A9: =('LISTE EXPOSANTS INSC '!M10) -> 0 | B9: =('LISTE EXPOSANTS INSC '!B10) -> 0 | C9: =('LISTE EXPOSANTS INSC '!C10) -> 0 | D9: =('LISTE EXPOSANTS INSC '!H10) -> 0 | E9: =('LISTE EXPOSANTS INSC '!I10) -> 0 | F9: =('LISTE EXPOSANTS INSC '!J10) -> 0 | G9: =('LISTE EXPOSANTS INSC '!D10) -> 0 | H9: =('LISTE EXPOSANTS INSC '!E10) -> 0 | I9: =('LISTE EXPOSANTS INSC '!O10) -> 0 | J9: =('LISTE EXPOSANTS INSC '!F10) -> 0
A10: =('LISTE EXPOSANTS INSC '!M11) -> 0 | B10: =('LISTE EXPOSANTS INSC '!B11) -> 0 | C10: =('LISTE EXPOSANTS INSC '!C11) -> 0 | D10: =('LISTE EXPOSANTS INSC '!H11) -> 0 | E10: =('LISTE EXPOSANTS INSC '!I11) -> 0 | F10: =('LISTE EXPOSANTS INSC '!J11) -> 0 | G10: =('LISTE EXPOSANTS INSC '!D11) -> 0 | H10: =('LISTE EXPOSANTS INSC '!E11) -> 0 | I10: =('LISTE EXPOSANTS INSC '!O11) -> 0 | J10: =('LISTE EXPOSANTS INSC '!F11) -> 0
A11: =('LISTE EXPOSANTS INSC '!M12) -> 0 | B11: =('LISTE EXPOSANTS INSC '!B12) -> 0 | C11: =('LISTE EXPOSANTS INSC '!C12) -> 0 | D11: =('LISTE EXPOSANTS INSC '!H12) -> 0 | E11: =('LISTE EXPOSANTS INSC '!I12) -> 0 | F11: =('LISTE EXPOSANTS INSC '!J12) -> 0 | G11: =('LISTE EXPOSANTS INSC '!D12) -> 0 | H11: =('LISTE EXPOSANTS INSC '!E12) -> 0 | I11: =('LISTE EXPOSANTS INSC '!O12) -> 0 | J11: =('LISTE EXPOSANTS INSC '!F12) -> 0
A12: =('LISTE EXPOSANTS INSC '!M13) -> 0 | B12: =('LISTE EXPOSANTS INSC '!B13) -> 0 | C12: =('LISTE EXPOSANTS INSC '!C13) -> 0 | D12: =('LISTE EXPOSANTS INSC '!H13) -> 0 | E12: =('LISTE EXPOSANTS INSC '!I13) -> 0 | F12: =('LISTE EXPOSANTS INSC '!J13) -> 0 | G12: =('LISTE EXPOSANTS INSC '!D13) -> 0 | H12: =('LISTE EXPOSANTS INSC '!E13) -> 0 | I12: =('LISTE EXPOSANTS INSC '!O13) -> 0 | J12: =('LISTE EXPOSANTS INSC '!F13) -> 0
A13: =('LISTE EXPOSANTS INSC '!M14) -> 0 | B13: =('LISTE EXPOSANTS INSC '!B14) -> 0 | C13: =('LISTE EXPOSANTS INSC '!C14) -> 0 | D13: =('LISTE EXPOSANTS INSC '!H14) -> 0 | E13: =('LISTE EXPOSANTS INSC '!I14) -> 0 | F13: =('LISTE EXPOSANTS INSC '!J14) -> 0 | G13: =('LISTE EXPOSANTS INSC '!D14) -> 0 | H13: =('LISTE EXPOSANTS INSC '!E14) -> 0 | I13: =('LISTE EXPOSANTS INSC '!O14) -> 0 | J13: =('LISTE EXPOSANTS INSC '!F14) -> 0
A14: =('LISTE EXPOSANTS INSC '!M15) -> 0 | B14: =('LISTE EXPOSANTS INSC '!B15) -> 0 | C14: =('LISTE EXPOSANTS INSC '!C15) -> 0 | D14: =('LISTE EXPOSANTS INSC '!H15) -> 0 | E14: =('LISTE EXPOSANTS INSC '!I15) -> 0 | F14: =('LISTE EXPOSANTS INSC '!J15) -> 0 | G14: =('LISTE EXPOSANTS INSC '!D15) -> 0 | H14: =('LISTE EXPOSANTS INSC '!E15) -> 0 | I14: =('LISTE EXPOSANTS INSC '!O15) -> 0 | J14: =('LISTE EXPOSANTS INSC '!F15) -> 0
A15: =('LISTE EXPOSANTS INSC '!M16) -> 0 | B15: =('LISTE EXPOSANTS INSC '!B16) -> 0 | C15: =('LISTE EXPOSANTS INSC '!C16) -> 0 | D15: =('LISTE EXPOSANTS INSC '!H16) -> 0 | E15: =('LISTE EXPOSANTS INSC '!I16) -> 0 | F15: =('LISTE EXPOSANTS INSC '!J16) -> 0 | G15: =('LISTE EXPOSANTS INSC '!D16) -> 0 | H15: =('LISTE EXPOSANTS INSC '!E16) -> 0 | I15: =('LISTE EXPOSANTS INSC '!O16) -> 0 | J15: =('LISTE EXPOSANTS INSC '!F16) -> 0
... A80: =('LISTE EXPOSANTS INSC '!M81) -> 0 | B80: =('LISTE EXPOSANTS INSC '!B81) -> 0 | C80: =('LISTE EXPOSANTS INSC '!C81) -> 0 | D80: =('LISTE EXPOSANTS INSC '!H81) -> 0 | E80: =('LISTE EXPOSANTS INSC '!I81) -> 0 | F80: =('LISTE EXPOSANTS INSC '!J81) -> 0 | G80: =('LISTE EXPOSANTS INSC '!D81) -> 0 | H80: =('LISTE EXPOSANTS INSC '!E81) -> 0 | I80: =('LISTE EXPOSANTS INSC '!O81) -> 0 | J80: =('LISTE EXPOSANTS INSC '!F81) -> 0
A81: SIGNATURES PETANQUE CLUB MAIRIE
F98: 83

Sheet LISTE EXPOSANTS PROS
A1: Association PC Sainte Barbe Ottersthal Brocante Ottersthal du Dimanche 11/10/2026 REGISTRE DES INSCRIPTIONS PROFESSIONNELS
B2: IDENTITE | D2: ADRESSE | G2: CARTE IDENTITE | I2: VOITURE | J2: N°RC
A3: Emplacement | B3: NOM | C3: Prénom | D3: ADRESSE | E3: CP | F3: VILLE | G3: N° | H3: Date | I3: AVEC
A15: SIGNATURES PETANQUE CLUB MAIRIE

Sheet LISTE EXPOSANTS INSC 
A1: BROCANTE OTTERSTHAL 11 OCTOBRE 2026 (ORDRE INSCRIPTION)
A2: N° INSCRIPTION | B2: IDENTITE | G2: ADRESSE | K2: ACTIVITE | L2: EMPLACEMENT | Q2: PAIEMENT | X2: TABLEAU PRESENCE
L3: DEMANDE | M3: reel | N3: METRE | O3: VOITURE
B4: NOM | C4: Prénom | D4: N°CI | E4: DATE CI | F4: RC N° | G4: TELEPHONE | H4: ADRESSE | I4: CODE POSTAL | J4: VILLE | O4: AVEC | P4: SANS | Q4: DU | R4: PAYE | S4: TITRE | T4: DATE | U4: Motant CH | V4: Motant € | W4: RESTE DU | X4: résa/payé/présent | Y4: résa/payé/abs | Z4: résa/non payé/abs | AA4: non résa/préset/payé
A5: 1 | Q5: =(N5*2.5) -> 0 | R5: 0 | W5: =(Q5-U5-V5) -> 0
A6: 2 | Q6: =(N6*2.5) -> 0 | R6: 0 | W6: =(Q6-U6-V6) -> 0
A7: 3 | Q7: =(N7*2.5) -> 0 | R7: 0 | W7: =(Q7-U7-V7) -> 0
A8: 4 | Q8: =(N8*2.5) -> 0 | R8: 0 | W8: =(Q8-U8-V8) -> 0
A9: 5 | Q9: =(N9*2.5) -> 0 | R9: 0 | W9: =(Q9-U9-V9) -> 0
A10: 6 | Q10: =(N10*2.5) -> 0 | R10: 0 | W10: =(Q10-U10-V10) -> 0
A11: 7 | Q11: =(N11*2.5) -> 0 | R11: 0 | W11: =(Q11-U11-V11) -> 0
A12: 8 | Q12: =(N12*2.5) -> 0 | R12: 0 | W12: =(Q12-U12-V12) -> 0
A13: 9 | Q13: =(N13*2.5) -> 0 | R13: 0 | W13: =(Q13-U13-V13) -> 0
A14: 10 | Q14: =(N14*2.5) -> 0 | R14: 0 | W14: =(Q14-U14-V14) -> 0
A15: 11 | Q15: =(N15*2.5) -> 0 | R15: 0 | W15: =(Q15-U15-V15) -> 0
A16: 12 | Q16: =(N16*2.5) -> 0 | R16: 0 | W16: =(Q16-U16-V16) -> 0
... A92: 88 | Q92: =(N92*2.5) -> 0 | R92: 0 | W92: =(Q92-U92-V92) -> 0
B93: TOTAL | N93: =SUM(N5:N94) -> 0 | Q93: =SUM(Q5:Q92) -> 0 | R93: =SUM(R5:R92) -> 0 | U93: =SUM(U5:U92) -> 0 | V93: =SUM(V5:V92) -> 0 | W93: =SUM(W5:W92) -> 0
A94: 1 | B94: ADAM | C94: Nadine | F94: 753887819 | G94: 611913564 | H94: 17 Gal de gaulle | I94: 67610 | J94: LA WANTZENAU | K94: Commerçant | M94: 9 | N94: 15 | O94: X | Q94: 52.5 | R94: 52.5 | S94: CH | U94: =(R94) -> 52.5 | W94: =(Q94-U94-V94) -> 0
A95: 2 | B95: VOMSCHEIDT | C95: Andrée | H95: 14 rue ancienne ecole | I95: 67700 | J95: OTTERSTHAL | L95: au 24 en face du 11 | M95: 63 | N95: 5 | O95: X | Q95: =(N95*2.5) -> 12.5 | R95: 12.5 | S95: CH | U95: =(R95) -> 12.5 | W95: =(Q95-U95-V95) -> 0
A96: 3 | B96: BENDELE | C96: Leonard | D96: K604HXED5 | E96: 45400 | F96: 927646562 | G96: 669622745 | H96: 19 rue du fossé | I96: 67400 | J96: STRASBOURG | K96: Elsass-stub | M96: 14 | N96: 7 | O96: X | Q96: 24.5 | R96: 24.5 | S96: CH | U96: =(R96) -> 24.5 | W96: =(Q96-U96-V96) -> 0
A97: 4 | B97: NALEPA | C97: Nathalie | D97: 140267801352 | E97: 10-022014 | G97: 662506517 | H97: 2 rue de la gendarmerie | I97: 67270 | J97: HOCHFELDEN | M97: 65 | N97: 5 | O97: X | Q97: =(N97*2.5) -> 12.5 | R97: 12.5 | S97: CH | U97: =(R97) -> 12.5 | W97: =(Q97-U97-V97) -> 0
A98: 5 | B98: PACHOD | C98: Josphef | D98: 131167400238 | E98: 41596 | G98: 621717164 | H98: 3 rue du schlittweg | I98: 67700 | J98: ottersthal | L98: mme place que l'an passé (27 RP) | M98: 25 | N98: 5 | O98: X | Q98: =(N98*2.5) -> 12.5 | R98: 12.5 | S98: CH | U98: =(R98) -> 12.5 | W98: =(Q98-U98-V98) -> 0
A99: 6 | B99: LANG | C99: Yannick | D99: HTCNTCJN52 | E99: 44309 | G99: 608929881 | H99: 53 rue des chalets | I99: 57230 | J99: eguelshardt | M99: 5 | N99: 30 | O99: X | Q99: =(N99*2.5) -> 75 | R99: 75 | S99: CH | U99: =(R99) -> 75 | W99: =(Q99-U99-V99) -> 0
A100: 7 | B100: IMBS | C100: Béatrice | D100: 180267850306 | E100: 43132 | G100: 623857546 | H100: 1 rue de la ROSERAIE | I100: 67700 | J100: SAVERNE | M100: 12 | N100: 6 | O100: X | Q100: =(N100*2.5) -> 15 | R100: 15 | S100: CH | U100: =(R100) -> 15 | W100: =(Q100-U100-V100) -> 0
A101: 8 | B101: ARZIMAN | C101: Serpil | D101: CXBORDKL4 | E101: 44834 | G101: 751628866 | H101: 67 route romaine | I101: 67700 | J101: SAVERNE | M101: 67 | N101: 3 | O101: X | Q101: =(N101*2.5) -> 7.5 | R101: 7.5 | S101: CH | U101: =(R101) -> 7.5 | W101: =(Q101-U101-V101) -> 0
A102: 9 | B102: SECULA | C102: Dominique | D102: VCCRLNZN9 | E102: 44438 | G102: 624949907 | H102: 18 rue principal | I102: 67700 | J102: OTTERSTHAL | L102: Devant la maison de Signoret | M102: 21 | N102: 8 | Q102: =(N102*2.5) -> 20 | R102: 20 | V102: 20 | W102: =(Q102-U102-V102) -> 0
A103: 10 | B103: LISINAC | C103: Jean | D103: B1XD6LKK4 | E103: 37291 | G103: 606868771 | H103: 20 rue Gal Walter | I103: 67230 | J103: BENFELD | L103: PK rue pietonne | M103: 84 | N103: 10 | O103: X | Q103: =(N103*2.5) -> 25 | R103: 25 | S103: CH | U103: =(R103) -> 25 | W103: =(Q103-U103-V103) -> 0
A104: 11 | B104: MANUKYAN | C104: Hasmik | D104: 6703084616 | E104: 45113 | G104: 767839183 | H104: 2 ancienne sinagogue | I104: 67700 | J104: SAVERNE | M104: 57 | N104: 8 | O104: X | Q104: =(N104*2.5) -> 20 | R104: 20 | S104: CH | U104: =(R104) -> 20 | W104: =(Q104-U104-V104) -> 0
A105: 12 | B105: HUSSON | C105: Monique | D105: 170367801501 | E105: 42801 | F105: 418648176 | G105: 607477257 | I105: 67550 | J105: eckwersheim | L105: mme place que l'an passe(°16 RP) | M105: 18 | N105: 15 | O105: XX | Q105: 52.5 | R105: 52.5 | S105: CH | U105: =(R105) -> 52.5 | W105: =(Q105-U105-V105) -> 0
A106: 13 | B106: MULLER | C106: Agnès | D106: 191067855222 | E106: 43754 | G106: 681871601 | H106: 27 rue principale | I106: 67700 | J106: OTTERSTHAL | L106: en face du 27 r principale | M106: 27 | N106: 6 | O106: X | Q106: =(N106*2.5) -> 15 | R106: 15 | S106: CH | U106: =(R106) -> 15 | W106: =(Q106-U106-V106) -> 0
A107: 14 | B107: LAUGEL | C107: Claudia | D107: 151167400391 | E107: 42328 | G107: 670146835 | H107: 33 rue principale | I107: 67270 | J107: Saessolsheim | L107: a côté de bernard esteve 40 RP | M107: 36 | N107: 4 | O107: X | Q107: =(N107*2.5) -> 10 | R107: 10 | S107: CH | U107: =(R107) -> 10 | W107: =(Q107-U107-V107) -> 0
A108: 15 | B108: GOETZ | C108: Noel | D108: 8clp4p5r6 | E108: 44880 | G108: 683012820 | H108: 19 Mont Saint barbe | I108: 67700 | J108: OTTERSTHAL | M108: 6 | N108: 10 | O108: X | Q108: =(N108*2.5) -> 25 | R108: 25 | S108: CH | U108: =(R108) -> 25 | W108: =(Q108-U108-V108) -> 0
A109: 16 | B109: VERRY-SCHANTZ | C109: M-Chantal | D109: 180667863593 | E109: 43277 | G109: 636764100 | H109: 13 Gal de Gaulle | I109: 67270 | J109: HOCHFELDEN | K109: PRES TOILETTES | L109: Meme place que l'an passé | M109: 53 | N109: 5 | O109: X | Q109: =(N109*2.5) -> 12.5 | R109: 12.5 | S109: CH | U109: =(R109) -> 12.5 | W109: =(Q109-U109-V109) -> 0
A110: 17 | B110: ERTZ | C110: Sabine | D110: 1906678522577 | E110: 43627 | G110: 681784064 | H110: 34 rue de la garenne | I110: 67700 | J110: Saverne | K110: PK HAUT FOND | L110: Meme place que l'an passé | M110: 42 | N110: 11 | O110: X | Q110: =(N110*2.5) -> 27.5 | R110: 27.5 | S110: CH | U110: =(R110) -> 27.5 | W110: =(Q110-U110-V110) -> 0
A111: 18 | B111: STEINBERGER | C111: Michel | D111: 130467801881 | E111: 41375 | F111: 523159705 | G111: 618517974 | H111: 22 rue corps de garde | I111: 67100 | J111: STRASBOURG | K111: AMBULANT | L111: Place habit avec courant N°14 RP | M111: 17 | N111: 15 | O111: XX | Q111: 52.5 | R111: 52.5 | S111: CH | U111: =(R111) -> 52.5 | W111: =(Q111-U111-V111) -> 0
A112: 19 | B112: HICKENBICK | C112: J-Marie | D112: 16085790291 | E112: 42594 | G112: 695038112 | H112: 22 rue le corbusier | I112: 57400 | J112: SARREBOURG | L112: MEME EMPL PK ex N°71 | M112: 82 | N112: 12 | O112: X | Q112: 30 | R112: 30 | S112: CH | U112: =(R112) -> 30 | W112: =(Q112-U112-V112) -> 0
A113: 20 | B113: DIDIERJEAN | C113: Romain | D113: 1808680218 | E113: 43323 | G113: 674006600 | H113: 27 rue de phalsbourg | I113: 67700 | J113: St Jean Saverne | M113: 58 | N113: 5 | O113: X | Q113: =(N113*2.5) -> 12.5 | R113: 12.5 | S113: CH | U113: =(R113) -> 12.5 | W113: =(Q113-U113-V113) -> 0
A114: 21 | B114: VUILLAUME | C114: Sophie | D114: 58xnj25m1 | E114: 45069 | G114: 674519847 | H114: 12 R LEINERMATT | I114: 67700 | J114: OTTERSTHAL | L114: rue principale a l'arrêt de bus | M114: 33 | N114: 3 | O114: X | Q114: =(N114*2.5) -> 7.5 | R114: 7.5 | V114: 7.5 | W114: =(Q114-U114-V114) -> 0
A115: 22 | B115: LINDER | C115: Tharcisse | D115: 14076700090 | E115: 41824 | G115: 786209786 | H115: 34 rue du cimetiere | I115: 67700 | J115: OTTERSTHAL | L115: a placer devant domicile 34 RC | M115: 69 | N115: 10 | Q115: =(N115*2.5) -> 25 | R115: 25 | S115: CH | U115: =(R115) -> 25 | W115: =(Q115-U115-V115) -> 0
...
